BEGIN:VCALENDAR
PRODID:-//AT Content Types//AT Event//EN
VERSION:2.0
METHOD:PUBLISH
BEGIN:VEVENT
DTSTAMP:20260420T132135Z
CREATED:20241119T150350Z
UID:ATEvent-be81d899c4ac48f8a4181e0e2e5c5068
LAST-MODIFIED:20241119T150350Z
SUMMARY:Environmental Camp
DTSTART:20250714T040000Z
DTEND:20250719T035500Z
DESCRIPTION:Details to come.
CATEGORIES:Childrens Day Camp
CLASS:PUBLIC
END:VEVENT
END:VCALENDAR
