BEGIN:VCALENDAR
PRODID:-//AT Content Types//AT Event//EN
VERSION:2.0
METHOD:PUBLISH
BEGIN:VEVENT
DTSTAMP:20260423T154353Z
CREATED:20230117T200842Z
UID:ATEvent-34cb7ca77b334c9d90da0a1ce959b164
LAST-MODIFIED:20230119T213617Z
SUMMARY:Environmental Camp
DTSTART:20230717T120000Z
DTEND:20230721T210000Z
DESCRIPTION:Environmental Camp encourages stewardship and the natural 
 curiosities of budding naturalists. Example activities include meet an
 d greets with exciting animals\, nature walks\, tree identification\, 
 art projects\, and team building games. Each week is $225 per camper a
 nd held 8:00 am – 5:00 pm.
LOCATION:FENCE Center
CATEGORIES:Childrens Day Camp
CONTACT:Tracie Hanson\, 8288599021\, info@fence.org
CLASS:PUBLIC
END:VEVENT
END:VCALENDAR
