BEGIN:VCALENDAR
PRODID:-//AT Content Types//AT Event//EN
VERSION:2.0
METHOD:PUBLISH
BEGIN:VEVENT
DTSTAMP:20260420T173333Z
CREATED:20130108T154106Z
UID:ATEvent-c3de1023-1e0e-4a56-9ee3-43101782fa8d
LAST-MODIFIED:20130108T154106Z
SUMMARY:Environmental All Day Camp
DTSTART:20130722T120000Z
DTEND:20130726T210000Z
DESCRIPTION:AGES (5-12) $150.00 SESSION  8A.M. – 5P.M.\nTHIS IS ANOT
 HER GREAT ALL DAY CAMP WITH A MIXTURE OF DIFFERENT ENVIRONMENTS INCLUD
 ING\, EXPLORING NATURE\, LEARNING ABOUT THE EARTH & ASTRONOMY\, AND SU
 RVIVAL SKILLS. THIS WEEK WILL BE A VERY EXCITING WEEK FULL OF LOTS OF 
 GREAT THINGS TO LEARN\nINCLUDES MORNING & AFTERNOON SNACK\, BRING BAG 
 LUNCH \nLimited to 50 Campers
CATEGORIES:Childrens Day Camp
CONTACT:Tracie Hanson\, 828-859-9021\, natureeducation@fence.org
CLASS:PUBLIC
END:VEVENT
END:VCALENDAR
