BEGIN:VCALENDAR
PRODID:-//AT Content Types//AT Event//EN
VERSION:2.0
METHOD:PUBLISH
BEGIN:VEVENT
DTSTAMP:20260423T170907Z
CREATED:20170106T174209Z
UID:ATEvent-0006e6442f0f48f5a08c5aa3db3f11e1
LAST-MODIFIED:20170411T202348Z
SUMMARY:Earth Day Hike
DTSTART:20170422T130000Z
DTEND:20170422T143000Z
DESCRIPTION:Meet at the FENCE center for a leisurely hike through the 
 trails on FENCE property. AmeriCorps member\, Michael McClure will lea
 d this hike\, focusing on different things encountered along the trail
 s. Families with elementary aged children are encouraged to attend to 
 get out\, explore\, and enjoy nature on Earth Day. \nWe hope to see yo
 u for this great family friendly hike!
LOCATION:FENCE Center
CATEGORIES:Nature Program
CONTACT:Tracie Hanson\, 8288599021\, info@fence.org
CLASS:PUBLIC
END:VEVENT
END:VCALENDAR
