BEGIN:VCALENDAR
PRODID:-//AT Content Types//AT Event//EN
VERSION:1.0
BEGIN:VEVENT
DTSTART:20230601T120000Z
DTEND:20230601T140000Z
DCREATED:20230204T145839Z
UID:ATEvent-7785333f1ceb4fd1adfdaea5e9432f00
SEQUENCE:0
LAST-MODIFIED:20230204T145839Z
SUMMARY:Early Summer Bird Walk
DESCRIPTION:Join Aaron Steed\, Ventures Birding Guide for an early Sum
 mer bird walk around the FENCE property.
LOCATION:FENCE Center
PRIORITY:3
TRANSP:0
END:VEVENT
END:VCALENDAR
