BEGIN:VCALENDAR
PRODID:-//AT Content Types//AT Event//EN
VERSION:2.0
METHOD:PUBLISH
BEGIN:VEVENT
DTSTAMP:20260423T131457Z
CREATED:20180209T213159Z
UID:ATEvent-ba1ea07caf2449adbe16ab0fd54f4164
LAST-MODIFIED:20180209T213159Z
SUMMARY:Dressage Clinic
DTSTART:20180609T130000Z
DTEND:20180610T210000Z
LOCATION:FENCE Equestrian Side
CATEGORIES:Clinic
CLASS:PUBLIC
END:VEVENT
END:VCALENDAR
