BEGIN:VCALENDAR
PRODID:-//AT Content Types//AT Event//EN
VERSION:2.0
METHOD:PUBLISH
BEGIN:VEVENT
DTSTAMP:20260423T105755Z
CREATED:20211213T165841Z
UID:ATEvent-61e620822ea742a7b0c9ef6130c1a7be
LAST-MODIFIED:20220524T201948Z
SUMMARY:Dressage at FENCE - Deadline extended
DTSTART:20220604T110000Z
DTEND:20220605T220000Z
DESCRIPTION:closing date is extended to midnight on May 26\, online en
 tries will be taken until May 29'?\nFor online entries:  www.horseshow
 office.com
LOCATION:Equestrian side
CATEGORIES:Horse Show
CONTACT:Patti Hildreath\, dressageatfence@gmail.com
URL:http://horseshowoffice.com
CLASS:PUBLIC
END:VEVENT
END:VCALENDAR
