BEGIN:VCALENDAR
PRODID:-//AT Content Types//AT Event//EN
VERSION:1.0
BEGIN:VEVENT
DTSTART:20151114T150000Z
DTEND:20151114T210000Z
DCREATED:20151028T194546Z
UID:ATEvent-32643328-e879-44d7-adf1-6e3f31a0af48
SEQUENCE:0
LAST-MODIFIED:20151028T194546Z
SUMMARY:Donkey and Mule Day
DESCRIPTION:Kim Hayes and Chris Gerber from the "Donkey Sanctuary of C
 anada" and Kris Woodman\, DVM will explain demystifying behavior\, nut
 rition\, management. Hoof care\, vet care\, and having a "farrier Frie
 ndly" donkey/mule\n$45 for the day includes lunch and refreshments\nCo
 ntact Barbara Claussen for more information: 828-989-0423
LOCATION:FENCE Center
PRIORITY:3
TRANSP:0
END:VEVENT
END:VCALENDAR
