BEGIN:VCALENDAR
PRODID:-//AT Content Types//AT Event//EN
VERSION:2.0
METHOD:PUBLISH
BEGIN:VEVENT
DTSTAMP:20260423T131830Z
CREATED:20190122T212057Z
UID:ATEvent-dc4588bf1f29464ba787826fb41758c4
LAST-MODIFIED:20190322T204233Z
SUMMARY:Canceled-Dogwood flower needle felted pin
DTSTART:20190323T140000Z
DTEND:20190323T170000Z
DESCRIPTION:Irene Heckel will teach a needle felting class at FENCE. E
 ach participant will create a dogwood flower.
LOCATION:FENCE Center
CATEGORIES:Family
CONTACT:828-859-9021\, info@fence.org
CLASS:PUBLIC
END:VEVENT
END:VCALENDAR
