BEGIN:VCALENDAR
PRODID:-//AT Content Types//AT Event//EN
VERSION:1.0
BEGIN:VEVENT
DTSTART:20220809T130000Z
DTEND:20220809T160000Z
DCREATED:20220726T124727Z
UID:ATEvent-fe9260f9d2284361b83fec0abcaaf4b6
SEQUENCE:0
LAST-MODIFIED:20220726T124728Z
SUMMARY:Desensitization Play Day
DESCRIPTION:Interact with materials used in our therapeutic riding pro
 gram such as metal ramp\, poles\, cones\, barrels\, balls\, hula hoops
 \, basketball\, and bowling games.  \n\nFor more advanced participants
 \, one station will include plastic bags\, tarps and water â€śhazardsâ
 €ť.  Plus\, experience our therapeutic riding sensory trail.  \nKnowle
 dgeable volunteers will be onsite to assist you with the process of de
 sensitizing your horse. \nSpace is limited and registration is require
 d
LOCATION:FENCE Equestrian Side
PRIORITY:3
TRANSP:0
END:VEVENT
END:VCALENDAR
