BEGIN:VCALENDAR
PRODID:-//AT Content Types//AT Event//EN
VERSION:2.0
METHOD:PUBLISH
BEGIN:VEVENT
DTSTAMP:20260422T101728Z
CREATED:20230227T002308Z
UID:ATEvent-ce8f0f26034b4c3da30430e5b515ecb4
LAST-MODIFIED:20230227T002308Z
SUMMARY:Desensitization Play Day
DTSTART:20230305T150000Z
DTEND:20230305T200000Z
DESCRIPTION:Interact with materials used in our therapeutic riding pro
 gram such as metal ramp\, poles\, cones\, barrels\, balls\, hula hoops
 \, basketball\, and bowling games.  \nFor more advanced participants\,
  one station will include plastic bags\, tarps and water “hazards”
 .  Plus\, experience our therapeutic riding sensory trail.  \nKnowledg
 eable volunteers will be onsite to assist you with the process of dese
 nsitizing your horse. \nThis Play Day is FREE however space is limited
 \, and registration is required!
LOCATION:Equestrian Side
CATEGORIES:Schooling
CONTACT:Kathleen Watkins\, 8288599021\, therapeuticriding@fence.org
CLASS:PUBLIC
END:VEVENT
END:VCALENDAR
