BEGIN:VCALENDAR
PRODID:-//AT Content Types//AT Event//EN
VERSION:2.0
METHOD:PUBLISH
BEGIN:VEVENT
DTSTAMP:20260423T114915Z
CREATED:20220504T185954Z
UID:ATEvent-c333f4091dd14494ac60648e9fe685f1
LAST-MODIFIED:20220504T185954Z
SUMMARY:Desensitization Play day
DTSTART:20220531T130000Z
DTEND:20220531T160000Z
DESCRIPTION:Interact with materials used in our therapeutic riding pro
 gram: metal ramp\, poles\, cones\, barrels\, balls\, hula hoops\, bask
 etball\, and bowling games.  For more advanced participants\, one stat
 ion will include plastic bags\, tarps and water “hazards”.
LOCATION:FENCE Equestrian Side
CATEGORIES:Horse Show
CONTACT:Kathleen Watkins\, 8288599021\, info@fence.org
CLASS:PUBLIC
END:VEVENT
END:VCALENDAR
