BEGIN:VCALENDAR
PRODID:-//AT Content Types//AT Event//EN
VERSION:2.0
METHOD:PUBLISH
BEGIN:VEVENT
DTSTAMP:20260423T114714Z
CREATED:20220504T190154Z
UID:ATEvent-3c9ccbeb801140749587cc9be4525cda
LAST-MODIFIED:20220504T190155Z
SUMMARY:Desensitization Play Date
DTSTART:20220606T130000Z
DTEND:20220606T160000Z
DESCRIPTION:Interact with materials used in our therapeutic riding pro
 gram: metal ramp\, poles\, cones\, barrels\, balls\, hula hoops\, bask
 etball\, and bowling games.  For more advanced participants\, one stat
 ion will include plastic bags\, tarps and water “hazards”.
LOCATION:FENCE Equestrian Side
CATEGORIES:Horse Show
CONTACT:Kathleen Watkins\, 8288599021\, info@fence.org
CLASS:PUBLIC
END:VEVENT
END:VCALENDAR
