BEGIN:VCALENDAR
PRODID:-//AT Content Types//AT Event//EN
VERSION:1.0
BEGIN:VEVENT
DTSTART:20101211T223000Z
DTEND:20101212T040000Z
DCREATED:20100515T221106Z
UID:ATEvent-cadcfd5f-e5d3-49a3-af6b-3407494388bc
SEQUENCE:0
LAST-MODIFIED:20100515T221106Z
SUMMARY:December 11: Astronomy Program at Sunset
DESCRIPTION:The Pleiades\, Orion and winter stars preview. Walk to top
  of Hawk Ridge\, behind the FENCE Center. Free program\, and telescope
 s provided. Offered by the Foothills Astronomical Society.
LOCATION:FENCE Center Area/Hawk Ridge
PRIORITY:3
TRANSP:0
END:VEVENT
END:VCALENDAR
