BEGIN:VCALENDAR
PRODID:-//AT Content Types//AT Event//EN
VERSION:2.0
METHOD:PUBLISH
BEGIN:VEVENT
DTSTAMP:20260423T131243Z
CREATED:20091013T145801Z
UID:ATEvent-7a9c5e92-4776-4394-9de3-31016b6c6555
LAST-MODIFIED:20091013T145801Z
SUMMARY:Dec. 5: TROT Horse Show
DTSTART:20091205T140000Z
DTEND:20091205T170000Z
DESCRIPTION:Riders from our therapeutic riding program show their tale
 nts under the covered arena at the Equestrian Center. Public welcome!
LOCATION:Equestrian Center\, Ring C
CONTACT:828-859-9021\, therapeuticriding@fence.org
URL:http://www.fence.org/trot
CLASS:PUBLIC
END:VEVENT
END:VCALENDAR
