BEGIN:VCALENDAR
PRODID:-//AT Content Types//AT Event//EN
VERSION:1.0
BEGIN:VEVENT
DTSTART:20101204T140000Z
DTEND:20101204T180000Z
DCREATED:20101120T215148Z
UID:ATEvent-1d3b28f3-f900-441e-b887-f0298ab2faf9
SEQUENCE:0
LAST-MODIFIED:20101120T215148Z
SUMMARY:Dec. 4: TROT Horse Show
DESCRIPTION:Riders from our therapeutic horseback riding program compe
 te in equitation and trail-riding classes.
LOCATION:Equestrian Center\, Ring C
PRIORITY:3
TRANSP:0
END:VEVENT
END:VCALENDAR
