BEGIN:VCALENDAR
PRODID:-//AT Content Types//AT Event//EN
VERSION:2.0
METHOD:PUBLISH
BEGIN:VEVENT
DTSTAMP:20260423T154752Z
CREATED:20091219T220955Z
UID:ATEvent-6cdf52d8-9b0e-44cc-a268-31453e52ef01
LAST-MODIFIED:20091219T220955Z
SUMMARY:Dec. 21: Home For The Holidays\, 7pm
DTSTART:20091222T000000Z
DTEND:20091222T020000Z
DESCRIPTION:Our annual holiday celebration with carols\, stories and l
 ots of good cheer. Re-scheduled from published dates due to severe wea
 ther. Currently held tickets valid for this performance\, and seats st
 ill available\, too!
LOCATION:Great Room
CATEGORIES:Family
CONTACT:828-859-9021\, info@fence.org
CLASS:PUBLIC
END:VEVENT
END:VCALENDAR
