BEGIN:VCALENDAR
PRODID:-//AT Content Types//AT Event//EN
VERSION:2.0
METHOD:PUBLISH
BEGIN:VEVENT
DTSTAMP:20260423T105550Z
CREATED:20080623T181908Z
UID:ATEvent-41770af3-512d-4a7a-ac94-2b81af4d7389
LAST-MODIFIED:20081103T220632Z
SUMMARY:Dec. 20 - Home For The Holidays
DTSTART:20081221T000000Z
DTEND:20081221T013000Z
DESCRIPTION:Our annual celebration of the season. Order tickets secure
 ly online with your credit card\, or call 828-859-9021.
LOCATION:FENCE Center Great Room
CATEGORIES:Family
CONTACT:FENCE\, 828-859-9021\, info@fence.org
CLASS:PUBLIC
END:VEVENT
END:VCALENDAR
