BEGIN:VCALENDAR
PRODID:-//AT Content Types//AT Event//EN
VERSION:2.0
METHOD:PUBLISH
BEGIN:VEVENT
DTSTAMP:20260423T115636Z
CREATED:20091219T220749Z
UID:ATEvent-ff9ec34b-b381-4bf3-9683-3c1d54e614b7
LAST-MODIFIED:20091219T220749Z
SUMMARY:Dec. 20: Home For The Holidays\, 7pm
DTSTART:20091221T000000Z
DTEND:20091221T020000Z
DESCRIPTION:Our annual holiday celebration of carols\, Christmas stori
 es and good cheer. Re-scheduled from published dates due to severe wea
 ther. Currently held tickets still valid for this performance\, and se
 ats still available!
CATEGORIES:Family
CONTACT:828-859-9021\, info@fence.org
CLASS:PUBLIC
END:VEVENT
END:VCALENDAR
