BEGIN:VCALENDAR
PRODID:-//AT Content Types//AT Event//EN
VERSION:2.0
METHOD:PUBLISH
BEGIN:VEVENT
DTSTAMP:20260423T170702Z
CREATED:20081113T160902Z
UID:ATEvent-0838eabb-c496-4add-a3f0-7933cb87c7f5
LAST-MODIFIED:20081113T160902Z
SUMMARY:Dec. 1st - Special Astronomy Program at sunset
DTSTART:20081202T000000Z
DTEND:20081202T030000Z
DESCRIPTION:Join the Foothills Astronomical Society to observe the rar
 e conjunction of Venus\, Jupiter and the moon. Meet at the top of Hawk
  Ridge\, behind the FENCE Center. Telescopes provided for those withou
 t.
CATEGORIES:Nature Program
CLASS:PUBLIC
END:VEVENT
END:VCALENDAR
