BEGIN:VCALENDAR
PRODID:-//AT Content Types//AT Event//EN
VERSION:2.0
METHOD:PUBLISH
BEGIN:VEVENT
DTSTAMP:20260423T115251Z
CREATED:20080623T181712Z
UID:ATEvent-513bd1ea-69ae-4aec-87a3-5eb222895085
LAST-MODIFIED:20081103T220754Z
SUMMARY:Dec. 19 - Home For The Holidays
DTSTART:20081220T000000Z
DTEND:20081220T013000Z
LOCATION:FENCE Center Great Room
CATEGORIES:Family
CONTACT:FENCE\, 828-859-9021\, info@fence.org
CLASS:PUBLIC
END:VEVENT
END:VCALENDAR
