BEGIN:VCALENDAR
PRODID:-//AT Content Types//AT Event//EN
VERSION:2.0
METHOD:PUBLISH
BEGIN:VEVENT
DTSTAMP:20260423T154752Z
CREATED:20091107T210741Z
UID:ATEvent-cadc657d-8629-446e-916d-fec7d5cabbd1
LAST-MODIFIED:20091219T170153Z
SUMMARY:Dec. 19: Home For The Holidays
DTSTART:20091219T200000Z
DTEND:20091219T220000Z
CATEGORIES:Family
CONTACT:828-859-9021\, info@fence.org
CLASS:PUBLIC
END:VEVENT
END:VCALENDAR
