BEGIN:VCALENDAR
PRODID:-//AT Content Types//AT Event//EN
VERSION:1.0
BEGIN:VEVENT
DTSTART:20091219T233000Z
DTEND:20091220T040000Z
DCREATED:20090826T180845Z
UID:ATEvent-7d8397a1-35f7-459b-8a7f-80d0af21e802
SEQUENCE:0
LAST-MODIFIED:20091124T172044Z
SUMMARY:Dec. 19: Astronomy Program at sunset
DESCRIPTION:"Mercury at Twilight". Program takes place on the hill beh
 ind our main building. Telescopes provided. No program in case of rain
  or heavy cloud cover. Offered by the Foothills Astronomical Society.
LOCATION:fENCE Grounds
PRIORITY:3
TRANSP:0
END:VEVENT
END:VCALENDAR
