BEGIN:VCALENDAR
PRODID:-//AT Content Types//AT Event//EN
VERSION:1.0
BEGIN:VEVENT
DTSTART:20091219T000000Z
DTEND:20091219T013000Z
DCREATED:20091107T210355Z
UID:ATEvent-d85a98bf-0b60-458c-888f-162259d8e2af
SEQUENCE:0
LAST-MODIFIED:20091107T210355Z
SUMMARY:Dec. 18: Home For The Holidays
LOCATION:Great Room
PRIORITY:3
TRANSP:0
END:VEVENT
END:VCALENDAR
