BEGIN:VCALENDAR
PRODID:-//AT Content Types//AT Event//EN
VERSION:1.0
BEGIN:VEVENT
DTSTART:20101219T210000Z
DTEND:20101219T230000Z
DCREATED:20101130T212148Z
UID:ATEvent-43154319-dda6-4b0b-ada1-3d78a598f3b3
SEQUENCE:0
LAST-MODIFIED:20101208T212841Z
SUMMARY:Dec. 19: Home For The Holidays
LOCATION:Tryon Estates\, Columbus NC
PRIORITY:3
TRANSP:0
END:VEVENT
END:VCALENDAR
