BEGIN:VCALENDAR
PRODID:-//AT Content Types//AT Event//EN
VERSION:1.0
BEGIN:VEVENT
DTSTART:20101213T150000Z
DTEND:20101213T163000Z
DCREATED:20091117T173507Z
UID:ATEvent-484df3e4-c5f4-44da-9cb5-aafc76ed9e02
SEQUENCE:0
LAST-MODIFIED:20091219T180847Z
SUMMARY:Dec. 13 - Gardening Seminar
DESCRIPTION:"Holiday Greenery Workshop"\, with Master Gardener Gretche
 n Verbonic. Reservations suggested!
LOCATION:Great Room
PRIORITY:3
TRANSP:0
END:VEVENT
END:VCALENDAR
