BEGIN:VCALENDAR
PRODID:-//AT Content Types//AT Event//EN
VERSION:1.0
BEGIN:VEVENT
DTSTART:20111212T150000Z
DTEND:20111212T163000Z
DCREATED:20101120T220532Z
UID:ATEvent-570817e2-5ab6-4803-b7a7-a10921a9ad9c
SEQUENCE:0
LAST-MODIFIED:20101120T220532Z
SUMMARY:Dec. 12: Gardening Seminar\, 10am
DESCRIPTION:"Christmas Conifers"\, with Rhonda Anderson of Motlow Cree
 k Gardens. Free program.
LOCATION:Great Room
PRIORITY:3
TRANSP:0
END:VEVENT
END:VCALENDAR
