BEGIN:VCALENDAR
PRODID:-//AT Content Types//AT Event//EN
VERSION:2.0
METHOD:PUBLISH
BEGIN:VEVENT
DTSTAMP:20260423T144523Z
CREATED:20130219T205559Z
UID:ATEvent-9086222d-b1e4-40b8-a756-4fae6d852eca
LAST-MODIFIED:20130219T205600Z
SUMMARY:Dave Seay Perfect Horsemanship Clinic
DTSTART:20130525T120000Z
DTEND:20130526T210000Z
DESCRIPTION:Dave Seay is a unique horseman and gifted teacher at helpi
 ng his students learn a philosophy and practice of horsemanship built 
 on mutual respect and responsibility to the horse.  Spend two days wit
 h Dave and deepen your bond with your horse as well as learn new skill
 s and enjoying camaraderie and fun with the group!  Learn from Dave's 
 40+ years of horsemanship.
CONTACT:Judith Kearns\, 828-859-5456\, judithkerns@windstream.net
CLASS:PUBLIC
END:VEVENT
END:VCALENDAR
