BEGIN:VCALENDAR
PRODID:-//AT Content Types//AT Event//EN
VERSION:2.0
METHOD:PUBLISH
BEGIN:VEVENT
DTSTAMP:20260423T130829Z
CREATED:20130409T204944Z
UID:ATEvent-d7c0fd9e-9f55-4824-8e8a-85fbd29caaae
LAST-MODIFIED:20130409T210449Z
SUMMARY:Cross Country Schooling
DTSTART:20130414T160000Z
DTEND:20130414T210000Z
DESCRIPTION:ATTENTION ALL EVENTERS ! \nHere is your chance to do one m
 ore ride on the new and improved FENCE Cross Country Course!
LOCATION:FENCE X/C Course
CONTACT:Margo Savage\, redgate@windstream.net
URL:http://www.foothillsriding.org
CLASS:PUBLIC
END:VEVENT
END:VCALENDAR
