BEGIN:VCALENDAR
PRODID:-//AT Content Types//AT Event//EN
VERSION:1.0
BEGIN:VEVENT
DTSTART:20250628T120000Z
DTEND:20250628T210000Z
DCREATED:20250603T153208Z
UID:ATEvent-aa15e380ad5441629f71788502080569
SEQUENCE:0
LAST-MODIFIED:20250603T153208Z
SUMMARY:Cross Country Equestrian Training
PRIORITY:3
TRANSP:0
END:VEVENT
END:VCALENDAR
