BEGIN:VCALENDAR
PRODID:-//AT Content Types//AT Event//EN
VERSION:1.0
BEGIN:VEVENT
DTSTART:20200913T200000Z
DTEND:20200913T210000Z
DCREATED:20200904T180239Z
UID:ATEvent-9279173bca974cb8a8541b1c08967445
SEQUENCE:0
LAST-MODIFIED:20200904T180241Z
SUMMARY:Concert with Tom Fisch
DESCRIPTION:*Registration is required for this event. * “To describe
  Tom’s music is a bit like describing a favorite recipe---the first 
 ingredient is tasteful acoustic guitar playing. Second\, add Tom’s r
 ich vocal style. Sprinkle in a dash of humor. Combine with the heart a
 nd soul of an eclectic mix of songs from the great American songbook i
 n the folk/country style\, and you’ve cooked up some enjoyable enter
 tainment.”
LOCATION:FENCE Center (Pavilion)
PRIORITY:3
TRANSP:0
END:VEVENT
END:VCALENDAR
