BEGIN:VCALENDAR
PRODID:-//AT Content Types//AT Event//EN
VERSION:1.0
BEGIN:VEVENT
DTSTART:20220123T210000Z
DTEND:20220123T220000Z
DCREATED:20211213T163337Z
UID:ATEvent-38bb12263c82411eb7c3f6f25cf38f97
SEQUENCE:0
LAST-MODIFIED:20220122T224158Z
SUMMARY:Cancelled-Concert with Sparkle City Brass
DESCRIPTION:Due to an illness in the band (non-Covid)\, we are needing
  to cancel this concert. We will work to reschedule Sparkle City Brass
  soon.
LOCATION:FENCE Center
PRIORITY:3
TRANSP:0
END:VEVENT
END:VCALENDAR
