BEGIN:VCALENDAR
PRODID:-//AT Content Types//AT Event//EN
VERSION:1.0
BEGIN:VEVENT
DTSTART:20230618T200000Z
DTEND:20230618T210000Z
DCREATED:20230605T003210Z
UID:ATEvent-26a026e11e0d41b0b26350cfaba1da9c
SEQUENCE:0
LAST-MODIFIED:20230605T003211Z
SUMMARY:Concert with Old Men of the Woods
DESCRIPTION:Old Men of the Woods will perform in the Great Room at FEN
 CE on Sunday\, June 18th at 4pm. This event is free and open to the pu
 blic.
LOCATION:FENCE Center
PRIORITY:3
TRANSP:0
END:VEVENT
END:VCALENDAR
