BEGIN:VCALENDAR
PRODID:-//AT Content Types//AT Event//EN
VERSION:2.0
METHOD:PUBLISH
BEGIN:VEVENT
DTSTAMP:20260423T062432Z
CREATED:20220121T224223Z
UID:ATEvent-83c59c6264df40b09876786541c55dd1
LAST-MODIFIED:20220124T144939Z
SUMMARY:Concert with Myron Hyman
DTSTART:20220220T210000Z
DTEND:20220220T220000Z
DESCRIPTION:Myron Hyman will be performing at FENCE on Sunday\, Februa
 ry 20th. Join us for this free performance. Seating is limited-Please 
 register in advance by emailing info@fence.org or calling 828-859-9021
 . Face coverings are strongly encouraged for attendees\, extra masks w
 ill be available for guests.
LOCATION:FENCE Center
CATEGORIES:Family
CONTACT:828-859-9021\, info@fence.org
CLASS:PUBLIC
END:VEVENT
END:VCALENDAR
