BEGIN:VCALENDAR
PRODID:-//AT Content Types//AT Event//EN
VERSION:1.0
BEGIN:VEVENT
DTSTART:20230423T200000Z
DTEND:20230423T210000Z
DCREATED:20230322T003835Z
UID:ATEvent-6969badcd228470fae3c7085887951cb
SEQUENCE:0
LAST-MODIFIED:20230322T003926Z
SUMMARY:Concert
DESCRIPTION:Join us in the Great room at FENCE for a concert with Aubr
 ey and Justin Eisenman. This event is free and open to the public.
LOCATION:FENCE Center
PRIORITY:3
TRANSP:0
END:VEVENT
END:VCALENDAR
