BEGIN:VCALENDAR
PRODID:-//AT Content Types//AT Event//EN
VERSION:1.0
BEGIN:VEVENT
DTSTART:20151205T150000Z
DTEND:20151205T170000Z
DCREATED:20151026T184950Z
UID:ATEvent-07bda11f-5ca4-480a-9e57-efd847d7a46f
SEQUENCE:0
LAST-MODIFIED:20151026T184950Z
SUMMARY:Come Make A Christmas Kissing Ball to benefit our TROT Ridership program
DESCRIPTION:Join us to support the Therapeutic Riding Of Tryon program
  at FENCE. Each year TROT supports its students by providing scholarsh
 ips to families in need. These scholarships allow students who may not
  otherwise be able to participate in this great program.
LOCATION:FENCE Center
PRIORITY:3
TRANSP:0
END:VEVENT
END:VCALENDAR
