BEGIN:VCALENDAR
PRODID:-//AT Content Types//AT Event//EN
VERSION:1.0
BEGIN:VEVENT
DTSTART:20161015T210000Z
DTEND:20161016T030000Z
DCREATED:20151112T154401Z
UID:ATEvent-3851ce4a-98e5-468a-8fe6-13b965183e59
SEQUENCE:0
LAST-MODIFIED:20151112T154401Z
SUMMARY:Chamber of Commerce - Shucking n Shagging
LOCATION:FENCE Center
PRIORITY:3
TRANSP:0
END:VEVENT
END:VCALENDAR
