BEGIN:VCALENDAR
PRODID:-//AT Content Types//AT Event//EN
VERSION:2.0
METHOD:PUBLISH
BEGIN:VEVENT
DTSTAMP:20260423T131947Z
CREATED:20130225T230144Z
UID:ATEvent-690cf42d-3941-4f9e-90c2-695ceb2e1d94
LAST-MODIFIED:20130430T205434Z
SUMMARY:Celebrate Our Earth at FENCE
DTSTART:20130504T170000Z
DTEND:20130504T200000Z
CATEGORIES:Family
CONTACT:Tracie Hanson\, 828-859-9021\, natureeducation@fence.org
CLASS:PUBLIC
END:VEVENT
END:VCALENDAR
