BEGIN:VCALENDAR
PRODID:-//AT Content Types//AT Event//EN
VERSION:2.0
METHOD:PUBLISH
BEGIN:VEVENT
DTSTAMP:20260423T154947Z
CREATED:20200110T220704Z
UID:ATEvent-7cea1534f99e42888b96ef2536b41aec
LAST-MODIFIED:20201005T123708Z
SUMMARY:Celebrate Nature Festival-Canceled
DTSTART:20201101T170000Z
DTEND:20201101T200000Z
LOCATION:FENCE Center
CATEGORIES:Family
CONTACT:Tracie Hanson\, 8288599021\, info@fence.org
CLASS:PUBLIC
END:VEVENT
END:VCALENDAR
