BEGIN:VCALENDAR
PRODID:-//AT Content Types//AT Event//EN
VERSION:2.0
METHOD:PUBLISH
BEGIN:VEVENT
DTSTAMP:20260423T105846Z
CREATED:20230117T203308Z
UID:ATEvent-7a7f5c5f84fc43d690d9125eec051972
LAST-MODIFIED:20231010T174018Z
SUMMARY:Celebrate Nature Festival
DTSTART:20231029T160000Z
DTEND:20231029T200000Z
LOCATION:FENCE Center
CATEGORIES:Family
CONTACT:Tracie Hanson\, 8288599021\, info@fence.org
CLASS:PUBLIC
END:VEVENT
END:VCALENDAR
