BEGIN:VCALENDAR
PRODID:-//AT Content Types//AT Event//EN
VERSION:2.0
METHOD:PUBLISH
BEGIN:VEVENT
DTSTAMP:20260423T142555Z
CREATED:20211213T173437Z
UID:ATEvent-215b4341a04e4d80b4adfe6d5e83a99e
LAST-MODIFIED:20221018T225216Z
SUMMARY:Celebrate Nature at FENCE
DTSTART:20221030T160000Z
DTEND:20221030T200000Z
DESCRIPTION:Join FENCE in celebrating Nature & Fall! FENCE will host t
 heir annual Celebrate Nature at FENCE festival with fun for the whole 
 family. Featuring live musical performances\, kids activities\, food\,
  animal encounters\, art demonstrations\, and much more. This event is
  free to the community!
LOCATION:FENCE Center
CATEGORIES:Family
CONTACT:8288599021\, info@fence.org
CLASS:PUBLIC
END:VEVENT
END:VCALENDAR
