BEGIN:VCALENDAR
PRODID:-//AT Content Types//AT Event//EN
VERSION:1.0
BEGIN:VEVENT
DTSTART:20181007T170000Z
DTEND:20181007T200000Z
DCREATED:20180907T134637Z
UID:ATEvent-7dfb06595d7e4103b30d4fc170318868
SEQUENCE:0
LAST-MODIFIED:20180907T134638Z
SUMMARY:Celebrate Fall at FENCE Festival
DESCRIPTION:Join FENCE in celebrating Fall! FENCE will host their annu
 al Celebrate fall at FENCE festival with fun for the whole family. Fea
 turing live musical performances\, kids activities\, food\, animal enc
 ounters\, art demonstrations\, and much more. This event is free to th
 e community! Thank you to the Kirby Endowment at the Polk County Commu
 nity Foundation for making this event possible.
LOCATION:FENCE Center
PRIORITY:3
TRANSP:0
END:VEVENT
END:VCALENDAR
