BEGIN:VCALENDAR
PRODID:-//AT Content Types//AT Event//EN
VERSION:2.0
METHOD:PUBLISH
BEGIN:VEVENT
DTSTAMP:20260423T130702Z
CREATED:20190123T143738Z
UID:ATEvent-df9c7f46f9ee4ee99aa39b3438055557
LAST-MODIFIED:20190819T174619Z
SUMMARY:Carolina Carriage Club Show
DTSTART:20191011T120000Z
DTEND:20191013T210000Z
LOCATION:FENCE Equestrian Side
CATEGORIES:Horse Show
CLASS:PUBLIC
END:VEVENT
END:VCALENDAR
