BEGIN:VCALENDAR
PRODID:-//AT Content Types//AT Event//EN
VERSION:1.0
BEGIN:VEVENT
DTSTART:20170930T120000Z
DTEND:20171001T210000Z
DCREATED:20170105T193000Z
UID:ATEvent-8b13595f64a74ad89bcb7fd88be24269
SEQUENCE:0
LAST-MODIFIED:20170105T193000Z
SUMMARY:CCC Show
LOCATION:FENCE Equestrian Side
PRIORITY:3
TRANSP:0
END:VEVENT
END:VCALENDAR
