BEGIN:VCALENDAR
PRODID:-//AT Content Types//AT Event//EN
VERSION:1.0
BEGIN:VEVENT
DTSTART:20150926T120000Z
DTEND:20150927T210000Z
DCREATED:20150714T175838Z
UID:ATEvent-3f968e05-b1c5-4464-a10b-33c7a844666e
SEQUENCE:0
LAST-MODIFIED:20150714T175838Z
SUMMARY:Carriage Club Horse Show
LOCATION:FENCE Equestrian Side
PRIORITY:3
TRANSP:0
END:VEVENT
END:VCALENDAR
