BEGIN:VCALENDAR
PRODID:-//AT Content Types//AT Event//EN
VERSION:1.0
BEGIN:VEVENT
DTSTART:20170819T130000Z
DTEND:20170819T220000Z
DCREATED:20170220T154012Z
UID:ATEvent-e77fd49bf21e4582a3ed725054a15cfa
SEQUENCE:0
LAST-MODIFIED:20170220T154012Z
SUMMARY:Carolina Schooling Clinic
LOCATION:FENCE Equestrian Side
PRIORITY:3
TRANSP:0
END:VEVENT
END:VCALENDAR
