BEGIN:VCALENDAR
PRODID:-//AT Content Types//AT Event//EN
VERSION:2.0
METHOD:PUBLISH
BEGIN:VEVENT
DTSTAMP:20260423T170810Z
CREATED:20240726T161235Z
UID:ATEvent-b39edcf34876470da05db21e6649a462
LAST-MODIFIED:20240726T161235Z
SUMMARY:Carolina Schooling
DTSTART:20240803T120000Z
DTEND:20240803T200000Z
LOCATION:FENCE EQ Side
CATEGORIES:Horse Show
CLASS:PUBLIC
END:VEVENT
END:VCALENDAR
