BEGIN:VCALENDAR
PRODID:-//AT Content Types//AT Event//EN
VERSION:1.0
BEGIN:VEVENT
DTSTART:20210724T130000Z
DTEND:20210724T200000Z
DCREATED:20210629T154759Z
UID:ATEvent-72779fbe52054c8a8cedc7ba90a3570b
SEQUENCE:0
LAST-MODIFIED:20210629T154829Z
SUMMARY:Carolina Schooling
LOCATION:FENCE Equestrian Side
PRIORITY:3
TRANSP:0
END:VEVENT
END:VCALENDAR
