BEGIN:VCALENDAR
PRODID:-//AT Content Types//AT Event//EN
VERSION:1.0
BEGIN:VEVENT
DTSTART:20210410T120000Z
DTEND:20210411T210000Z
DCREATED:20210402T193131Z
UID:ATEvent-73a3dd3c87bc47c5b363527829e6a237
SEQUENCE:0
LAST-MODIFIED:20210402T193131Z
SUMMARY:Carolina Regional Pony Club
LOCATION:FENCE Equestrian Side
PRIORITY:3
TRANSP:0
END:VEVENT
END:VCALENDAR
