BEGIN:VCALENDAR
PRODID:-//AT Content Types//AT Event//EN
VERSION:1.0
BEGIN:VEVENT
DTSTART:20220409T110000Z
DTEND:20220410T220000Z
DCREATED:20211213T164200Z
UID:ATEvent-8506e330924c495e900c875d5807f523
SEQUENCE:0
LAST-MODIFIED:20211213T164200Z
SUMMARY:Carolina Pony Club Reginals
LOCATION:Equestrian side
PRIORITY:3
TRANSP:0
END:VEVENT
END:VCALENDAR
